BEGIN:VCALENDAR
VERSION:2.0
PRODID:-//Brewing &amp; Beverage Industries Business - ECPv5.0.3.1//NONSGML v1.0//EN
CALSCALE:GREGORIAN
METHOD:PUBLISH
X-WR-CALNAME:Brewing &amp; Beverage Industries Business
X-ORIGINAL-URL:https://brewingbusiness.co.uk
X-WR-CALDESC:Events for Brewing &amp; Beverage Industries Business
BEGIN:VTIMEZONE
TZID:Europe/London
BEGIN:DAYLIGHT
TZOFFSETFROM:+0000
TZOFFSETTO:+0100
TZNAME:BST
DTSTART:20190331T010000
END:DAYLIGHT
BEGIN:STANDARD
TZOFFSETFROM:+0100
TZOFFSETTO:+0000
TZNAME:GMT
DTSTART:20191027T010000
END:STANDARD
END:VTIMEZONE
BEGIN:VEVENT
DTSTART;VALUE=DATE:20190615
DTEND;VALUE=DATE:20190616
DTSTAMP:20260422T185413
CREATED:20190430T161145Z
LAST-MODIFIED:20190430T161145Z
UID:579-1560556800-1560643199@brewingbusiness.co.uk
SUMMARY:Beer Day Britain
DESCRIPTION:Beer Day Britain\, the UK’s national beer day annually on June 15th.\nCelebrate Britain’s national alcoholic drink and spread beery love throughout the land by joining the National Cheers To Beer at 7pm (19.00h) on June 15th as millions of people across the country raise a glass\, say ‘Cheers to Beer’ and post a message on social media with the hashtag #CheersToBeer.\nFind out more about Beer Day Britain and how can you join in. \n
URL:https://brewingbusiness.co.uk/event/beer-day-britain/
CATEGORIES:Industry Event
END:VEVENT
END:VCALENDAR