BEGIN:VCALENDAR
VERSION:2.0
PRODID:-//Brewing &amp; Beverage Industries Business - ECPv5.0.3.1//NONSGML v1.0//EN
CALSCALE:GREGORIAN
METHOD:PUBLISH
X-WR-CALNAME:Brewing &amp; Beverage Industries Business
X-ORIGINAL-URL:https://brewingbusiness.co.uk
X-WR-CALDESC:Events for Brewing &amp; Beverage Industries Business
BEGIN:VTIMEZONE
TZID:Europe/London
BEGIN:DAYLIGHT
TZOFFSETFROM:+0000
TZOFFSETTO:+0100
TZNAME:BST
DTSTART:20190331T010000
END:DAYLIGHT
BEGIN:STANDARD
TZOFFSETFROM:+0100
TZOFFSETTO:+0000
TZNAME:GMT
DTSTART:20191027T010000
END:STANDARD
END:VTIMEZONE
BEGIN:VEVENT
DTSTART;VALUE=DATE:20190919
DTEND;VALUE=DATE:20190920
DTSTAMP:20260422T171036
CREATED:20190802T165559Z
LAST-MODIFIED:20190807T134702Z
UID:787-1568851200-1568937599@brewingbusiness.co.uk
SUMMARY:Beer Matters Conference & Trade Show
DESCRIPTION:Low alcohol brewing\, mixed fermentation and the latest in raw materials research and trends will be the main topics at the national trade show and conference for the business of brewing\, held in Scotland on Thursday 19th September 2019. \nVisit event website for details. \n \n
URL:https://brewingbusiness.co.uk/event/beer-matters-conference-trade-show/
LOCATION:Edinburgh Corn Exchange\, 10 New Market Rd\, Edinburgh\, EH14 1RJ\, United Kingdom
CATEGORIES:Industry Event
END:VEVENT
END:VCALENDAR