BEGIN:VCALENDAR
VERSION:2.0
PRODID:-//Brewing &amp; Beverage Industries Business - ECPv5.0.3.1//NONSGML v1.0//EN
CALSCALE:GREGORIAN
METHOD:PUBLISH
X-WR-CALNAME:Brewing &amp; Beverage Industries Business
X-ORIGINAL-URL:https://brewingbusiness.co.uk
X-WR-CALDESC:Events for Brewing &amp; Beverage Industries Business
BEGIN:VTIMEZONE
TZID:Europe/London
BEGIN:DAYLIGHT
TZOFFSETFROM:+0000
TZOFFSETTO:+0100
TZNAME:BST
DTSTART:20220327T010000
END:DAYLIGHT
BEGIN:STANDARD
TZOFFSETFROM:+0100
TZOFFSETTO:+0000
TZNAME:GMT
DTSTART:20221030T010000
END:STANDARD
END:VTIMEZONE
BEGIN:VEVENT
DTSTART;VALUE=DATE:20220316
DTEND;VALUE=DATE:20220318
DTSTAMP:20260422T153313
CREATED:20210827T172615Z
LAST-MODIFIED:20210827T172708Z
UID:1804-1647388800-1647561599@brewingbusiness.co.uk
SUMMARY:BeerX 2022
DESCRIPTION: \n
URL:https://brewingbusiness.co.uk/event/beerx-2/
LOCATION:Exhibition Centre\, Kings Dock\, Liverpool Waterfront\, Liverpool\, Merseyside\, L3 4FP\, United Kingdom
CATEGORIES:Industry Event
END:VEVENT
END:VCALENDAR