BEGIN:VCALENDAR
VERSION:2.0
PRODID:-//Brewing &amp; Beverage Industries Business - ECPv5.0.3.1//NONSGML v1.0//EN
CALSCALE:GREGORIAN
METHOD:PUBLISH
X-WR-CALNAME:Brewing &amp; Beverage Industries Business
X-ORIGINAL-URL:https://brewingbusiness.co.uk
X-WR-CALDESC:Events for Brewing &amp; Beverage Industries Business
BEGIN:VTIMEZONE
TZID:Europe/London
BEGIN:DAYLIGHT
TZOFFSETFROM:+0000
TZOFFSETTO:+0100
TZNAME:BST
DTSTART:20200329T010000
END:DAYLIGHT
BEGIN:STANDARD
TZOFFSETFROM:+0100
TZOFFSETTO:+0000
TZNAME:GMT
DTSTART:20201025T010000
END:STANDARD
END:VTIMEZONE
BEGIN:VEVENT
DTSTART;VALUE=DATE:20200311
DTEND;VALUE=DATE:20200313
DTSTAMP:20260422T151217
CREATED:20191118T193414Z
LAST-MODIFIED:20191118T193414Z
UID:925-1583884800-1584057599@brewingbusiness.co.uk
SUMMARY:BeerX
DESCRIPTION:Featuring a packed schedule of expert workshops\, panel debates\, networking opportunities\, an expanded exhibition from suppliers of products and services\, and the SIBA AGM – plus a trade-only beer showcase exclusively featuring award winning independent craft beers in cask\, keg\, bottle & can – BeerX UK 2020 is back bigger and better than ever at the fantastic purpose-built Exhibition Centre Liverpool. All this within one massive space. \n
URL:https://brewingbusiness.co.uk/event/beerx/
LOCATION:Liverpool Exhibition Centre\, Liverpool\, L3 4FP\, United Kingdom
CATEGORIES:Festivals,Industry Event
END:VEVENT
END:VCALENDAR