BEGIN:VCALENDAR
VERSION:2.0
PRODID:-//Brewing &amp; Beverage Industries Business - ECPv5.0.3.1//NONSGML v1.0//EN
CALSCALE:GREGORIAN
METHOD:PUBLISH
X-WR-CALNAME:Brewing &amp; Beverage Industries Business
X-ORIGINAL-URL:https://brewingbusiness.co.uk
X-WR-CALDESC:Events for Brewing &amp; Beverage Industries Business
BEGIN:VTIMEZONE
TZID:Europe/London
BEGIN:DAYLIGHT
TZOFFSETFROM:+0000
TZOFFSETTO:+0100
TZNAME:BST
DTSTART:20190331T010000
END:DAYLIGHT
BEGIN:STANDARD
TZOFFSETFROM:+0100
TZOFFSETTO:+0000
TZNAME:GMT
DTSTART:20191027T010000
END:STANDARD
END:VTIMEZONE
BEGIN:VEVENT
DTSTART;TZID=Europe/London:20191106T074500
DTEND;TZID=Europe/London:20191106T093000
DTSTAMP:20260422T153319
CREATED:20190718T134259Z
LAST-MODIFIED:20190718T134259Z
UID:734-1573026300-1573032600@brewingbusiness.co.uk
SUMMARY:BFBi Breakfast Briefing
DESCRIPTION:Introduction to Compliance (PUWER/CE/ATEX).\nFor information and tickets email siobhan.mcgonigle@bfbi.org.uk. \n \n
URL:https://brewingbusiness.co.uk/event/bfbi-breakfast-briefing/
LOCATION:Lorien Engineering\, Millenium Court\, First Avenue\, Burton on Trent\, Staffordshire\, DE14 2WH\, United Kingdom
END:VEVENT
END:VCALENDAR