BEGIN:VCALENDAR
VERSION:2.0
PRODID:-//Brewing &amp; Beverage Industries Business - ECPv5.0.3.1//NONSGML v1.0//EN
CALSCALE:GREGORIAN
METHOD:PUBLISH
X-WR-CALNAME:Brewing &amp; Beverage Industries Business
X-ORIGINAL-URL:https://brewingbusiness.co.uk
X-WR-CALDESC:Events for Brewing &amp; Beverage Industries Business
BEGIN:VTIMEZONE
TZID:Europe/London
BEGIN:DAYLIGHT
TZOFFSETFROM:+0000
TZOFFSETTO:+0100
TZNAME:BST
DTSTART:20200329T010000
END:DAYLIGHT
BEGIN:STANDARD
TZOFFSETFROM:+0100
TZOFFSETTO:+0000
TZNAME:GMT
DTSTART:20201025T010000
END:STANDARD
END:VTIMEZONE
BEGIN:VEVENT
DTSTART;VALUE=DATE:20200306
DTEND;VALUE=DATE:20200307
DTSTAMP:20260422T151717
CREATED:20200124T145701Z
LAST-MODIFIED:20200124T145827Z
UID:1161-1583452800-1583539199@brewingbusiness.co.uk
SUMMARY:bfbi North & Scottish section Annual Luncheon
DESCRIPTION:BFBi Northern Section is bringing you their annual lunch\, Friday 6th March at the Queens Hotel in Leeds. For information or to book your place\, please email davidgrant121@gmail.com.\nFurther information on the official BFBI website here. \n \n  \n
URL:https://brewingbusiness.co.uk/event/bfbi-north-scottish-section-annual-luncheon/
LOCATION:Queens Hotel\, City Square\, Leeds\, West Yorkshire\, LS1 1PJ\, United Kingdom
CATEGORIES:Industry Event
END:VEVENT
END:VCALENDAR