BEGIN:VCALENDAR
VERSION:2.0
PRODID:-//Brewing &amp; Beverage Industries Business - ECPv5.0.3.1//NONSGML v1.0//EN
CALSCALE:GREGORIAN
METHOD:PUBLISH
X-WR-CALNAME:Brewing &amp; Beverage Industries Business
X-ORIGINAL-URL:https://brewingbusiness.co.uk
X-WR-CALDESC:Events for Brewing &amp; Beverage Industries Business
BEGIN:VTIMEZONE
TZID:Europe/London
BEGIN:DAYLIGHT
TZOFFSETFROM:+0000
TZOFFSETTO:+0100
TZNAME:BST
DTSTART:20190331T010000
END:DAYLIGHT
BEGIN:STANDARD
TZOFFSETFROM:+0100
TZOFFSETTO:+0000
TZNAME:GMT
DTSTART:20191027T010000
END:STANDARD
END:VTIMEZONE
BEGIN:VEVENT
DTSTART;VALUE=DATE:20190913
DTEND;VALUE=DATE:20190914
DTSTAMP:20260422T154635
CREATED:20190718T133324Z
LAST-MODIFIED:20190718T133630Z
UID:727-1568332800-1568419199@brewingbusiness.co.uk
SUMMARY:BFBi Western Section Annual Banquet
DESCRIPTION:Ticket Prices\n– £66 + VAT per head Early Bird offer BEFORE 1st AUGUST 2019 or £69 + VAT per head AFTER 1st August 2019.  \nDress code: Black Tie.  \nPLUS – After dinner casino evening.\nFor information and tickets email: siobhan.mcgonigle@bfbi.org.uk \n \n
URL:https://brewingbusiness.co.uk/event/bfbi-western-section-annual-banquet/
LOCATION:Mercure Grand Hotel\, Broad Street\, Bristol\, BS1 2EL\, United Kingdom
CATEGORIES:Industry Event
END:VEVENT
END:VCALENDAR