BEGIN:VCALENDAR
VERSION:2.0
PRODID:-//Brewing &amp; Beverage Industries Business - ECPv5.0.3.1//NONSGML v1.0//EN
CALSCALE:GREGORIAN
METHOD:PUBLISH
X-WR-CALNAME:Brewing &amp; Beverage Industries Business
X-ORIGINAL-URL:https://brewingbusiness.co.uk
X-WR-CALDESC:Events for Brewing &amp; Beverage Industries Business
BEGIN:VTIMEZONE
TZID:Europe/London
BEGIN:DAYLIGHT
TZOFFSETFROM:+0000
TZOFFSETTO:+0100
TZNAME:BST
DTSTART:20190331T010000
END:DAYLIGHT
BEGIN:STANDARD
TZOFFSETFROM:+0100
TZOFFSETTO:+0000
TZNAME:GMT
DTSTART:20191027T010000
END:STANDARD
END:VTIMEZONE
BEGIN:VEVENT
DTSTART;VALUE=DATE:20190719
DTEND;VALUE=DATE:20190729
DTSTAMP:20260422T153416
CREATED:20190213T144800Z
LAST-MODIFIED:20190213T144800Z
UID:404-1563494400-1564358399@brewingbusiness.co.uk
SUMMARY:Birmingham Beer Week
DESCRIPTION:Back for it’s third year\, a week-long celebration of Brum’s epic beer scene and the culture that makes this city so great! \n
URL:https://brewingbusiness.co.uk/event/birmingham-beer-week/
LOCATION:City of Birmingham\, Birmingham\, United Kingdom
CATEGORIES:Festivals
ORGANIZER;CN="British%20Beer%20Cities":MAILTO:info@beercities.org.uk
END:VEVENT
END:VCALENDAR