BEGIN:VCALENDAR
VERSION:2.0
PRODID:-//Brewing &amp; Beverage Industries Business - ECPv5.0.3.1//NONSGML v1.0//EN
CALSCALE:GREGORIAN
METHOD:PUBLISH
X-WR-CALNAME:Brewing &amp; Beverage Industries Business
X-ORIGINAL-URL:https://brewingbusiness.co.uk
X-WR-CALDESC:Events for Brewing &amp; Beverage Industries Business
BEGIN:VTIMEZONE
TZID:Europe/London
BEGIN:DAYLIGHT
TZOFFSETFROM:+0000
TZOFFSETTO:+0100
TZNAME:BST
DTSTART:20200329T010000
END:DAYLIGHT
BEGIN:STANDARD
TZOFFSETFROM:+0100
TZOFFSETTO:+0000
TZNAME:GMT
DTSTART:20201025T010000
END:STANDARD
END:VTIMEZONE
BEGIN:VEVENT
DTSTART;VALUE=DATE:20200823
DTEND;VALUE=DATE:20200902
DTSTAMP:20260423T020608
CREATED:20200303T151852Z
LAST-MODIFIED:20200303T151852Z
UID:1229-1598140800-1599004799@brewingbusiness.co.uk
SUMMARY:BRIGHTON & HOVE BEER WEEK
DESCRIPTION:Friday 23rd August – Sunday 1st September 2020\nFor information visit the official website at: https://www.brightonandhovebeerweek.com/ \n
URL:https://brewingbusiness.co.uk/event/brighton-hove-beer-week/
CATEGORIES:Festivals,Industry Event
END:VEVENT
END:VCALENDAR