BEGIN:VCALENDAR
VERSION:2.0
PRODID:-//Brewing &amp; Beverage Industries Business - ECPv5.0.3.1//NONSGML v1.0//EN
CALSCALE:GREGORIAN
METHOD:PUBLISH
X-WR-CALNAME:Brewing &amp; Beverage Industries Business
X-ORIGINAL-URL:https://brewingbusiness.co.uk
X-WR-CALDESC:Events for Brewing &amp; Beverage Industries Business
BEGIN:VTIMEZONE
TZID:Europe/London
BEGIN:DAYLIGHT
TZOFFSETFROM:+0000
TZOFFSETTO:+0100
TZNAME:BST
DTSTART:20210328T010000
END:DAYLIGHT
BEGIN:STANDARD
TZOFFSETFROM:+0100
TZOFFSETTO:+0000
TZNAME:GMT
DTSTART:20211031T010000
END:STANDARD
END:VTIMEZONE
BEGIN:VEVENT
DTSTART;VALUE=DATE:20210923
DTEND;VALUE=DATE:20211004
DTSTAMP:20260422T185711
CREATED:20210908T132159Z
LAST-MODIFIED:20210908T132340Z
UID:1818-1632355200-1633305599@brewingbusiness.co.uk
SUMMARY:Cask Ale Week
DESCRIPTION:Visit caskaleweek.co.uk to find what pubs and breweries are doing to celebrate in 2021!\n \n
URL:https://brewingbusiness.co.uk/event/cask-ale-week-2/
CATEGORIES:Industry Event
ORGANIZER;CN="Cask%20Marque":MAILTO:info@cask-marque.co.uk
END:VEVENT
END:VCALENDAR