BEGIN:VCALENDAR
VERSION:2.0
PRODID:-//Brewing &amp; Beverage Industries Business - ECPv5.0.3.1//NONSGML v1.0//EN
CALSCALE:GREGORIAN
METHOD:PUBLISH
X-WR-CALNAME:Brewing &amp; Beverage Industries Business
X-ORIGINAL-URL:https://brewingbusiness.co.uk
X-WR-CALDESC:Events for Brewing &amp; Beverage Industries Business
BEGIN:VTIMEZONE
TZID:Europe/London
BEGIN:DAYLIGHT
TZOFFSETFROM:+0000
TZOFFSETTO:+0100
TZNAME:BST
DTSTART:20200329T010000
END:DAYLIGHT
BEGIN:STANDARD
TZOFFSETFROM:+0100
TZOFFSETTO:+0000
TZNAME:GMT
DTSTART:20201025T010000
END:STANDARD
END:VTIMEZONE
BEGIN:VEVENT
DTSTART;VALUE=DATE:20200128
DTEND;VALUE=DATE:20200129
DTSTAMP:20260422T132958
CREATED:20200121T144441Z
LAST-MODIFIED:20200121T144750Z
UID:1121-1580169600-1580255999@brewingbusiness.co.uk
SUMMARY:Challenges of Plastic Packaging
DESCRIPTION:A joint technical seminar with the BFBi & IBD. 28th Jan 2020 at Hall & Woodhouse Brewery\, Dorset.\nFor more information or to book\, email: siobhan.mcgonigle@bfbi.org.uk\n \n  \n
URL:https://brewingbusiness.co.uk/event/challenges-of-plastic-packaging/
LOCATION:Hall and Woodhouse Brewery\, The Brewery\, Blandford St Mary\, Dorset\, DT11 9LS\, United Kingdom
CATEGORIES:Industry Event
END:VEVENT
END:VCALENDAR