BEGIN:VCALENDAR
VERSION:2.0
PRODID:-//Brewing &amp; Beverage Industries Business - ECPv5.0.3.1//NONSGML v1.0//EN
CALSCALE:GREGORIAN
METHOD:PUBLISH
X-WR-CALNAME:Brewing &amp; Beverage Industries Business
X-ORIGINAL-URL:https://brewingbusiness.co.uk
X-WR-CALDESC:Events for Brewing &amp; Beverage Industries Business
BEGIN:VTIMEZONE
TZID:Europe/London
BEGIN:DAYLIGHT
TZOFFSETFROM:+0000
TZOFFSETTO:+0100
TZNAME:BST
DTSTART:20190331T010000
END:DAYLIGHT
BEGIN:STANDARD
TZOFFSETFROM:+0100
TZOFFSETTO:+0000
TZNAME:GMT
DTSTART:20191027T010000
END:STANDARD
END:VTIMEZONE
BEGIN:VEVENT
DTSTART;VALUE=DATE:20190919
DTEND;VALUE=DATE:20190922
DTSTAMP:20260422T135652
CREATED:20190718T140650Z
LAST-MODIFIED:20190718T140650Z
UID:746-1568851200-1569110399@brewingbusiness.co.uk
SUMMARY:Elgood's Beer Festival
DESCRIPTION:There’s something for everyone at Elgood’s Brewery & Gardens!\nBeer Festival – Thurs 19th to Sat 21st Sept (tickets on sale NOW!)\nFor information and tickets visit: elgoods-brewery.co.uk\n \n
URL:https://brewingbusiness.co.uk/event/elgoods-beer-festival/
LOCATION:Elgoods\, North Brink Brewery\, Wisbech\, Cambridgeshire\, PE13 1LW\, United Kingdom
CATEGORIES:Festivals
END:VEVENT
END:VCALENDAR