BEGIN:VCALENDAR
VERSION:2.0
PRODID:-//Brewing &amp; Beverage Industries Business - ECPv5.0.3.1//NONSGML v1.0//EN
CALSCALE:GREGORIAN
METHOD:PUBLISH
X-WR-CALNAME:Brewing &amp; Beverage Industries Business
X-ORIGINAL-URL:https://brewingbusiness.co.uk
X-WR-CALDESC:Events for Brewing &amp; Beverage Industries Business
BEGIN:VTIMEZONE
TZID:Europe/London
BEGIN:DAYLIGHT
TZOFFSETFROM:+0000
TZOFFSETTO:+0100
TZNAME:BST
DTSTART:20190331T010000
END:DAYLIGHT
BEGIN:STANDARD
TZOFFSETFROM:+0100
TZOFFSETTO:+0000
TZNAME:GMT
DTSTART:20191027T010000
END:STANDARD
END:VTIMEZONE
BEGIN:VEVENT
DTSTART;TZID=Europe/London:20190627T170000
DTEND;TZID=Europe/London:20190630T180000
DTSTAMP:20260422T153555
CREATED:20190627T142609Z
LAST-MODIFIED:20190627T142635Z
UID:666-1561654800-1561917600@brewingbusiness.co.uk
SUMMARY:Liverpool Craft Beer Expo 2019
DESCRIPTION:The Liverpool Craft Beer Expo 🍻 Festival of Craft Beer\, Gin\, Amazing Street Food & Tunes. 27th-30th June 2019\, 300+ Beers. \nSEE EVENT WEBSITE FOR TICKETS AND OPENING TIMES \n
URL:https://brewingbusiness.co.uk/event/liverpool-craft-beer-expo-2019/
LOCATION:Invisible Wind Factory\, 3 Regent Road\, Liverpool\, L3 7DS\, United Kingdom
CATEGORIES:Festivals
END:VEVENT
END:VCALENDAR