BEGIN:VCALENDAR
VERSION:2.0
PRODID:-//Brewing &amp; Beverage Industries Business - ECPv5.0.3.1//NONSGML v1.0//EN
CALSCALE:GREGORIAN
METHOD:PUBLISH
X-WR-CALNAME:Brewing &amp; Beverage Industries Business
X-ORIGINAL-URL:https://brewingbusiness.co.uk
X-WR-CALDESC:Events for Brewing &amp; Beverage Industries Business
BEGIN:VTIMEZONE
TZID:Europe/London
BEGIN:DAYLIGHT
TZOFFSETFROM:+0000
TZOFFSETTO:+0100
TZNAME:BST
DTSTART:20190331T010000
END:DAYLIGHT
BEGIN:STANDARD
TZOFFSETFROM:+0100
TZOFFSETTO:+0000
TZNAME:GMT
DTSTART:20191027T010000
END:STANDARD
END:VTIMEZONE
BEGIN:VEVENT
DTSTART;VALUE=DATE:20190809
DTEND;VALUE=DATE:20190811
DTSTAMP:20260422T135805
CREATED:20190718T153841Z
LAST-MODIFIED:20190718T153841Z
UID:755-1565308800-1565481599@brewingbusiness.co.uk
SUMMARY:London Craft Beer Festival
DESCRIPTION:
URL:https://brewingbusiness.co.uk/event/london-craft-beer-festival-2/
LOCATION:Tobacco Dock\, Tobacco Dock\, London\, United Kingdom
CATEGORIES:Festivals
END:VEVENT
END:VCALENDAR