BEGIN:VCALENDAR
VERSION:2.0
PRODID:-//Brewing &amp; Beverage Industries Business - ECPv5.0.3.1//NONSGML v1.0//EN
CALSCALE:GREGORIAN
METHOD:PUBLISH
X-WR-CALNAME:Brewing &amp; Beverage Industries Business
X-ORIGINAL-URL:https://brewingbusiness.co.uk
X-WR-CALDESC:Events for Brewing &amp; Beverage Industries Business
BEGIN:VTIMEZONE
TZID:Europe/London
BEGIN:DAYLIGHT
TZOFFSETFROM:+0000
TZOFFSETTO:+0100
TZNAME:BST
DTSTART:20200329T010000
END:DAYLIGHT
BEGIN:STANDARD
TZOFFSETFROM:+0100
TZOFFSETTO:+0000
TZNAME:GMT
DTSTART:20201025T010000
END:STANDARD
END:VTIMEZONE
BEGIN:VEVENT
DTSTART;VALUE=DATE:20200213
DTEND;VALUE=DATE:20200216
DTSTAMP:20260422T115321
CREATED:20191218T152359Z
LAST-MODIFIED:20191218T153510Z
UID:991-1581552000-1581811199@brewingbusiness.co.uk
SUMMARY:LoveBeerLondon
DESCRIPTION:A three day keg beer festival celebrating the best craft beer the south east has to offer in conjunction with SIBA SE and London Brewers Alliance.\nTwo Tribes Event Space\, 30-40 Vale Royal\, N7 9AP\nVisit the official event website for details and opening times. \n
URL:https://brewingbusiness.co.uk/event/lovebeerlondon/
LOCATION:Two Tribes Event Space\, 30-40 Vale Royal\, London\, N7 9AP\, United Kingdom
CATEGORIES:Festivals
END:VEVENT
END:VCALENDAR