BEGIN:VCALENDAR
VERSION:2.0
PRODID:-//Brewing &amp; Beverage Industries Business - ECPv5.0.3.1//NONSGML v1.0//EN
CALSCALE:GREGORIAN
METHOD:PUBLISH
X-WR-CALNAME:Brewing &amp; Beverage Industries Business
X-ORIGINAL-URL:https://brewingbusiness.co.uk
X-WR-CALDESC:Events for Brewing &amp; Beverage Industries Business
BEGIN:VTIMEZONE
TZID:Europe/London
BEGIN:DAYLIGHT
TZOFFSETFROM:+0000
TZOFFSETTO:+0100
TZNAME:BST
DTSTART:20190331T010000
END:DAYLIGHT
BEGIN:STANDARD
TZOFFSETFROM:+0100
TZOFFSETTO:+0000
TZNAME:GMT
DTSTART:20191027T010000
END:STANDARD
END:VTIMEZONE
BEGIN:VEVENT
DTSTART;VALUE=DATE:20190515
DTEND;VALUE=DATE:20190516
DTSTAMP:20260422T171327
CREATED:20190425T094808Z
LAST-MODIFIED:20190425T192815Z
UID:551-1557878400-1557964799@brewingbusiness.co.uk
SUMMARY:Muntons Malt Raw Materials Seminar
DESCRIPTION:Muntons Malt are hosting a Raw Materials Seminar in Glasgow.\nDate: Wednesday 15th May 2019\nVenue: Drygate Brewing Company\nSpeakers include @MuntonsBrewTec @lallemandy1 and Dave from @SimplyHops\nAn interactive session covering #Malt #Yeast and #Hops\nDM for more info or contact @DavidMuntons\n
URL:https://brewingbusiness.co.uk/event/muntons-malt-raw-materials-seminar/
LOCATION:Drygate Brewing Co\, 85 Drygate\, Glasgow\, G4 0UT\, United Kingdom
END:VEVENT
END:VCALENDAR