BEGIN:VCALENDAR
VERSION:2.0
PRODID:-//Brewing &amp; Beverage Industries Business - ECPv5.0.3.1//NONSGML v1.0//EN
CALSCALE:GREGORIAN
METHOD:PUBLISH
X-WR-CALNAME:Brewing &amp; Beverage Industries Business
X-ORIGINAL-URL:https://brewingbusiness.co.uk
X-WR-CALDESC:Events for Brewing &amp; Beverage Industries Business
BEGIN:VTIMEZONE
TZID:Europe/London
BEGIN:DAYLIGHT
TZOFFSETFROM:+0000
TZOFFSETTO:+0100
TZNAME:BST
DTSTART:20190331T010000
END:DAYLIGHT
BEGIN:STANDARD
TZOFFSETFROM:+0100
TZOFFSETTO:+0000
TZNAME:GMT
DTSTART:20191027T010000
END:STANDARD
END:VTIMEZONE
BEGIN:VEVENT
DTSTART;VALUE=DATE:20190523
DTEND;VALUE=DATE:20190603
DTSTAMP:20260422T172452
CREATED:20190213T120843Z
LAST-MODIFIED:20190213T120843Z
UID:396-1558569600-1559519999@brewingbusiness.co.uk
SUMMARY:Norwich City of Ale
DESCRIPTION:A city-wide festival. Over 40 welcoming city pubs await you\, serving the region’s fine ales that are often matched with seasonal local produce.  Plus heritage ale trails\, tasting and tours! \n
URL:https://brewingbusiness.co.uk/event/norwich-city-of-ale/
CATEGORIES:Festivals
ORGANIZER;CN="British%20Beer%20Cities":MAILTO:info@beercities.org.uk
END:VEVENT
END:VCALENDAR