BEGIN:VCALENDAR
VERSION:2.0
PRODID:-//Brewing &amp; Beverage Industries Business - ECPv5.0.3.1//NONSGML v1.0//EN
CALSCALE:GREGORIAN
METHOD:PUBLISH
X-WR-CALNAME:Brewing &amp; Beverage Industries Business
X-ORIGINAL-URL:https://brewingbusiness.co.uk
X-WR-CALDESC:Events for Brewing &amp; Beverage Industries Business
BEGIN:VTIMEZONE
TZID:Europe/London
BEGIN:DAYLIGHT
TZOFFSETFROM:+0000
TZOFFSETTO:+0100
TZNAME:BST
DTSTART:20190331T010000
END:DAYLIGHT
BEGIN:STANDARD
TZOFFSETFROM:+0100
TZOFFSETTO:+0000
TZNAME:GMT
DTSTART:20191027T010000
END:STANDARD
END:VTIMEZONE
BEGIN:VEVENT
DTSTART;VALUE=DATE:20190608
DTEND;VALUE=DATE:20190616
DTSTAMP:20260422T153440
CREATED:20190213T143956Z
LAST-MODIFIED:20190213T144143Z
UID:398-1559952000-1560643199@brewingbusiness.co.uk
SUMMARY:Nottingham Craft Beer Week
DESCRIPTION:The week-long event has been running every summer since 2013 and has a membership of 30+ bars and breweries from around the city. \n
URL:https://brewingbusiness.co.uk/event/nottingham-craft-beer-week/
LOCATION:City of Nottingham\, Nottingham\, United Kingdom
CATEGORIES:Festivals
END:VEVENT
END:VCALENDAR