BEGIN:VCALENDAR
VERSION:2.0
PRODID:-//Brewing &amp; Beverage Industries Business - ECPv5.0.3.1//NONSGML v1.0//EN
CALSCALE:GREGORIAN
METHOD:PUBLISH
X-WR-CALNAME:Brewing &amp; Beverage Industries Business
X-ORIGINAL-URL:https://brewingbusiness.co.uk
X-WR-CALDESC:Events for Brewing &amp; Beverage Industries Business
BEGIN:VTIMEZONE
TZID:Europe/London
BEGIN:DAYLIGHT
TZOFFSETFROM:+0000
TZOFFSETTO:+0100
TZNAME:BST
DTSTART:20190331T010000
END:DAYLIGHT
BEGIN:STANDARD
TZOFFSETFROM:+0100
TZOFFSETTO:+0000
TZNAME:GMT
DTSTART:20191027T010000
END:STANDARD
END:VTIMEZONE
BEGIN:VEVENT
DTSTART;TZID=Europe/London:20191018T120000
DTEND;TZID=Europe/London:20191019T223000
DTSTAMP:20260422T135626
CREATED:20190627T144720Z
LAST-MODIFIED:20190627T144720Z
UID:674-1571400000-1571524200@brewingbusiness.co.uk
SUMMARY:Preston Beer Festival
DESCRIPTION:Come and join us for our 1st beer festival in the newly refurbished Preston Guild Hall!\nThere will be up to 100 real ales\, ciders and perries available from microbreweries all around the UK. On top of this there will an indoor gin garden boasting an array of boutique gins\, spirits\, wine and prosecco.\nIf all of this hasn’t tempted you already\, how about some live music to get you in the mood! Or\, if you’d prefer to sip your beers in peace then Friday daytime’s ‘music-free session’ is the one for you.\nThere will be food available to cure your rumbling stomachs over the weekend.\nSEE EVENT WEBSITE FOR TICKETS AND OPENING TIMES \n
URL:https://brewingbusiness.co.uk/event/preston-beer-festival/
LOCATION:Preston Guild Hall\, Guild Centre\, Preston\, PR1 1HT\, United Kingdom
CATEGORIES:Festivals
END:VEVENT
END:VCALENDAR