BEGIN:VCALENDAR
VERSION:2.0
PRODID:-//Brewing &amp; Beverage Industries Business - ECPv5.0.3.1//NONSGML v1.0//EN
CALSCALE:GREGORIAN
METHOD:PUBLISH
X-WR-CALNAME:Brewing &amp; Beverage Industries Business
X-ORIGINAL-URL:https://brewingbusiness.co.uk
X-WR-CALDESC:Events for Brewing &amp; Beverage Industries Business
BEGIN:VTIMEZONE
TZID:Europe/London
BEGIN:DAYLIGHT
TZOFFSETFROM:+0000
TZOFFSETTO:+0100
TZNAME:BST
DTSTART:20190331T010000
END:DAYLIGHT
BEGIN:STANDARD
TZOFFSETFROM:+0100
TZOFFSETTO:+0000
TZNAME:GMT
DTSTART:20191027T010000
END:STANDARD
END:VTIMEZONE
BEGIN:VEVENT
DTSTART;VALUE=DATE:20190921
DTEND;VALUE=DATE:20190923
DTSTAMP:20260422T135821
CREATED:20190725T131842Z
LAST-MODIFIED:20190725T131857Z
UID:779-1569024000-1569196799@brewingbusiness.co.uk
SUMMARY:Royal Tunbridge Wells Food & Drink Festival
DESCRIPTION:Open 11am – 6pm.\nStreet Food\, Cooking Demos\, Food Market\, Craft Beer & Cider.\nFree Family Event.\nLocal & international food Taster menu.\n\n \n
URL:https://brewingbusiness.co.uk/event/royal-tunbridge-wells-food-drink-festival/
LOCATION:Calverly Grounds\, Mount Pleasant Road\, Tunbridge Wells\, TN1 1QY\, United Kingdom
CATEGORIES:Festivals
END:VEVENT
END:VCALENDAR