BEGIN:VCALENDAR
VERSION:2.0
PRODID:-//Brewing &amp; Beverage Industries Business - ECPv5.0.3.1//NONSGML v1.0//EN
CALSCALE:GREGORIAN
METHOD:PUBLISH
X-WR-CALNAME:Brewing &amp; Beverage Industries Business
X-ORIGINAL-URL:https://brewingbusiness.co.uk
X-WR-CALDESC:Events for Brewing &amp; Beverage Industries Business
BEGIN:VTIMEZONE
TZID:Europe/London
BEGIN:DAYLIGHT
TZOFFSETFROM:+0000
TZOFFSETTO:+0100
TZNAME:BST
DTSTART:20190331T010000
END:DAYLIGHT
BEGIN:STANDARD
TZOFFSETFROM:+0100
TZOFFSETTO:+0000
TZNAME:GMT
DTSTART:20191027T010000
END:STANDARD
END:VTIMEZONE
BEGIN:VEVENT
DTSTART;VALUE=DATE:20190313
DTEND;VALUE=DATE:20190315
DTSTAMP:20260422T210406
CREATED:20190313T140244Z
LAST-MODIFIED:20190313T140244Z
UID:536-1552435200-1552607999@brewingbusiness.co.uk
SUMMARY:ScotHot
DESCRIPTION:Scotland’s premier showcase for food\, drink\, hospitality & tourism. \n
URL:https://brewingbusiness.co.uk/event/scothot/
LOCATION:SEC Glasgow\, Scottish Event Campus\, Glasgow\, G3 8YW\, United Kingdom
CATEGORIES:Industry Event
END:VEVENT
END:VCALENDAR