BEGIN:VCALENDAR
VERSION:2.0
PRODID:-//Brewing &amp; Beverage Industries Business - ECPv5.0.3.1//NONSGML v1.0//EN
CALSCALE:GREGORIAN
METHOD:PUBLISH
X-WR-CALNAME:Brewing &amp; Beverage Industries Business
X-ORIGINAL-URL:https://brewingbusiness.co.uk
X-WR-CALDESC:Events for Brewing &amp; Beverage Industries Business
BEGIN:VTIMEZONE
TZID:Europe/London
BEGIN:DAYLIGHT
TZOFFSETFROM:+0000
TZOFFSETTO:+0100
TZNAME:BST
DTSTART:20190331T010000
END:DAYLIGHT
BEGIN:STANDARD
TZOFFSETFROM:+0100
TZOFFSETTO:+0000
TZNAME:GMT
DTSTART:20191027T010000
END:STANDARD
END:VTIMEZONE
BEGIN:VEVENT
DTSTART;VALUE=DATE:20190919
DTEND;VALUE=DATE:20190920
DTSTAMP:20260422T153416
CREATED:20190802T170010Z
LAST-MODIFIED:20190807T133901Z
UID:791-1568851200-1568937599@brewingbusiness.co.uk
SUMMARY:Scottish Beer Awards
DESCRIPTION:The Scottish Beer Awards is an independent awards programme that recognises achievements in the brewing industry across Scotland. \nSee event website for details. \n \n
URL:https://brewingbusiness.co.uk/event/scottish-beer-awards/
LOCATION:Edinburgh Corn Exchange\, 10 New Market Rd\, Edinburgh\, EH14 1RJ\, United Kingdom
CATEGORIES:Industry Event
END:VEVENT
END:VCALENDAR