BEGIN:VCALENDAR
VERSION:2.0
PRODID:-//Brewing &amp; Beverage Industries Business - ECPv5.0.3.1//NONSGML v1.0//EN
CALSCALE:GREGORIAN
METHOD:PUBLISH
X-WR-CALNAME:Brewing &amp; Beverage Industries Business
X-ORIGINAL-URL:https://brewingbusiness.co.uk
X-WR-CALDESC:Events for Brewing &amp; Beverage Industries Business
BEGIN:VTIMEZONE
TZID:Europe/London
BEGIN:DAYLIGHT
TZOFFSETFROM:+0000
TZOFFSETTO:+0100
TZNAME:BST
DTSTART:20190331T010000
END:DAYLIGHT
BEGIN:STANDARD
TZOFFSETFROM:+0100
TZOFFSETTO:+0000
TZNAME:GMT
DTSTART:20191027T010000
END:STANDARD
END:VTIMEZONE
BEGIN:VEVENT
DTSTART;VALUE=DATE:20190724
DTEND;VALUE=DATE:20190728
DTSTAMP:20260422T153452
CREATED:20190725T153305Z
LAST-MODIFIED:20190725T153645Z
UID:783-1563926400-1564271999@brewingbusiness.co.uk
SUMMARY:Shrewsbury Beer Fest
DESCRIPTION:Shrewsbury CAMRA Real Ale Festival.  \n24-27 July 2019 in St Mary’s Church SY1 1DX.  \nOpen 5pm Wed\, 11am Thur Fri Sat. \n  \n
URL:https://brewingbusiness.co.uk/event/shrewsbury-beer-fest/
LOCATION:St Mary’s Church\, St Mary's Street\, Shrewsbury\, Shropshire\, SY1 1DX\, United Kingdom
CATEGORIES:Festivals
END:VEVENT
END:VCALENDAR