BEGIN:VCALENDAR
VERSION:2.0
PRODID:-//Brewing &amp; Beverage Industries Business - ECPv5.0.3.1//NONSGML v1.0//EN
CALSCALE:GREGORIAN
METHOD:PUBLISH
X-WR-CALNAME:Brewing &amp; Beverage Industries Business
X-ORIGINAL-URL:https://brewingbusiness.co.uk
X-WR-CALDESC:Events for Brewing &amp; Beverage Industries Business
BEGIN:VTIMEZONE
TZID:Europe/London
BEGIN:DAYLIGHT
TZOFFSETFROM:+0000
TZOFFSETTO:+0100
TZNAME:BST
DTSTART:20210328T010000
END:DAYLIGHT
BEGIN:STANDARD
TZOFFSETFROM:+0100
TZOFFSETTO:+0000
TZNAME:GMT
DTSTART:20211031T010000
END:STANDARD
END:VTIMEZONE
BEGIN:VEVENT
DTSTART;VALUE=DATE:20210610
DTEND;VALUE=DATE:20210611
DTSTAMP:20260422T223207
CREATED:20210428T160618Z
LAST-MODIFIED:20210428T160618Z
UID:1724-1623283200-1623369599@brewingbusiness.co.uk
SUMMARY:Viti-Culture 2021
DESCRIPTION:A one day free to attend event that focus’ on technical developers\, innovators\, supplies and services directly or indirectly involved in Wine Production – from Soil to Cellar.\n \n
URL:https://brewingbusiness.co.uk/event/viti-culture-2021/
LOCATION:Plumpton College\, Ditchling Road\, Lewes\, East Sussex\, BN7 3AE\, United Kingdom
CATEGORIES:Industry Event
END:VEVENT
END:VCALENDAR