BEGIN:VCALENDAR
VERSION:2.0
PRODID:-//Brewing &amp; Beverage Industries Business - ECPv5.0.3.1//NONSGML v1.0//EN
CALSCALE:GREGORIAN
METHOD:PUBLISH
X-WR-CALNAME:Brewing &amp; Beverage Industries Business
X-ORIGINAL-URL:https://brewingbusiness.co.uk
X-WR-CALDESC:Events for Brewing &amp; Beverage Industries Business
BEGIN:VTIMEZONE
TZID:Europe/London
BEGIN:DAYLIGHT
TZOFFSETFROM:+0000
TZOFFSETTO:+0100
TZNAME:BST
DTSTART:20190331T010000
END:DAYLIGHT
BEGIN:STANDARD
TZOFFSETFROM:+0100
TZOFFSETTO:+0000
TZNAME:GMT
DTSTART:20191027T010000
END:STANDARD
END:VTIMEZONE
BEGIN:VEVENT
DTSTART;VALUE=DATE:20191108
DTEND;VALUE=DATE:20191110
DTSTAMP:20260422T135754
CREATED:20191105T202604Z
LAST-MODIFIED:20191105T202725Z
UID:897-1573171200-1573343999@brewingbusiness.co.uk
SUMMARY:Woking Beer Festival
DESCRIPTION:26th Woking Beer Festival \nCAMRA and Woking Leisure Centre will be hosting the annual Woking Beer Festival on Friday 8th & Saturday 9th November 2019. There will be over 60 Real Ales from a variety of local & national brewers as well as Ciders and Perries plus a selection of other imported beers. Live bands playing in the main hall at all sessions with a new quieter seated area in the cellar bar where you can try a Gin and Tonic. Hot and cold food available throughout the festival. \nSee there official site for tickets and information – https://wokingbeerfestival.co.uk/ \n
URL:https://brewingbusiness.co.uk/event/woking-beer-festival/
LOCATION:Woking Leisure Centre\, Woking Park\, Kingfield Road\, Woking\, Surrey\, GU229BA\, United Kingdom
CATEGORIES:Festivals
END:VEVENT
END:VCALENDAR