BEGIN:VCALENDAR
VERSION:2.0
PRODID:-//Brewing &amp; Beverage Industries Business - ECPv5.0.3.1//NONSGML v1.0//EN
CALSCALE:GREGORIAN
METHOD:PUBLISH
X-WR-CALNAME:Brewing &amp; Beverage Industries Business
X-ORIGINAL-URL:https://brewingbusiness.co.uk
X-WR-CALDESC:Events for Brewing &amp; Beverage Industries Business
BEGIN:VTIMEZONE
TZID:Europe/London
BEGIN:DAYLIGHT
TZOFFSETFROM:+0000
TZOFFSETTO:+0100
TZNAME:BST
DTSTART:20190331T010000
END:DAYLIGHT
BEGIN:STANDARD
TZOFFSETFROM:+0100
TZOFFSETTO:+0000
TZNAME:GMT
DTSTART:20191027T010000
END:STANDARD
END:VTIMEZONE
BEGIN:VEVENT
DTSTART;TZID=Europe/London:20190720T090000
DTEND;TZID=Europe/London:20190721T213000
DTSTAMP:20260422T185413
CREATED:20190626T152352Z
LAST-MODIFIED:20190626T152516Z
UID:659-1563613200-1563744600@brewingbusiness.co.uk
SUMMARY:Yorkshire Dales Food & Drink Festival Skipton
DESCRIPTION:The Yorkshire Dales Food & Drink Festival is back for its 4th year this year!\nSee the event website for full info plus opening times and tickets. \n
URL:https://brewingbusiness.co.uk/event/yorkshire-dales-food-drink-festival-skipton/
LOCATION:Yorkshire Dales Food & Drink Fest\, Funkirk Farm\, Skipton\, Yorkshire\, BD23 3AB\, United Kingdom
END:VEVENT
END:VCALENDAR